BEGIN:VCALENDAR
VERSION:2.0
PRODID:-//ONG Affirmative Action - ECPv6.5.0//NONSGML v1.0//EN
CALSCALE:GREGORIAN
METHOD:PUBLISH
X-ORIGINAL-URL:https://affirmativeact.org
X-WR-CALDESC:évènements pour ONG Affirmative Action
REFRESH-INTERVAL;VALUE=DURATION:PT1H
X-Robots-Tag:noindex
X-PUBLISHED-TTL:PT1H
BEGIN:VTIMEZONE
TZID:Africa/Brazzaville
BEGIN:STANDARD
TZOFFSETFROM:+0100
TZOFFSETTO:+0100
TZNAME:WAT
DTSTART:20230101T000000
END:STANDARD
END:VTIMEZONE
BEGIN:VEVENT
DTSTART;TZID=Africa/Brazzaville:20230517T123000
DTEND;TZID=Africa/Brazzaville:20230517T163000
DTSTAMP:20260421T222356
CREATED:20230515T154436Z
LAST-MODIFIED:20230515T154640Z
UID:15575-1684326600-1684341000@affirmativeact.org
SUMMARY:Réunion de validation des contenus du magazine
DESCRIPTION:Validation des contenus du Magazine Good Pratices 5\n\n\n\n\n\n\n\n\n\n\n\n\n\n\nDans le cadre de la mise en œuvre des activités du projet AZIMA dont l’objectif est renforcement des connaissances des populations clés et plus vulnérables affectées par le VIH/Sida\, la Tuberculose et le Paludisme et le renforcement de leurs implications dans les processus de financement du Fonds mondial. AFFIRMATIVE ACTION (ACT) organise le Mercredi  17 Mai  à l2H30 la réunion pour la validation des contenus du magazine de capitalisation des bonnes pratiques relatives aux Droits de l’Homme\, au Genre\, à la recherche communautaire et au renforcement des systèmes communautaires (GOOD PRACTICES 5).
URL:https://affirmativeact.org/event/reunion-de-validation-des-contenus-du-magazine-5/
CATEGORIES:AZIMA
ATTACH;FMTTYPE=image/jpeg:https://affirmativeact.org/wp-content/uploads/2022/06/Magazine-good-practice.jpeg
ORGANIZER;CN="Affirmative Action":MAILTO:contact@affirmativeact.org
END:VEVENT
END:VCALENDAR