BEGIN:VCALENDAR
VERSION:2.0
PRODID:-//ONG Affirmative Action - ECPv6.5.0//NONSGML v1.0//EN
CALSCALE:GREGORIAN
METHOD:PUBLISH
X-ORIGINAL-URL:https://affirmativeact.org
X-WR-CALDESC:évènements pour ONG Affirmative Action
REFRESH-INTERVAL;VALUE=DURATION:PT1H
X-Robots-Tag:noindex
X-PUBLISHED-TTL:PT1H
BEGIN:VTIMEZONE
TZID:Europe/Paris
BEGIN:DAYLIGHT
TZOFFSETFROM:+0100
TZOFFSETTO:+0200
TZNAME:CEST
DTSTART:20230326T010000
END:DAYLIGHT
BEGIN:STANDARD
TZOFFSETFROM:+0200
TZOFFSETTO:+0100
TZNAME:CET
DTSTART:20231029T010000
END:STANDARD
END:VTIMEZONE
BEGIN:VEVENT
DTSTART;TZID=Europe/Paris:20230419T083000
DTEND;TZID=Europe/Paris:20230420T163000
DTSTAMP:20260421T223052
CREATED:20230419T140524Z
LAST-MODIFIED:20230419T140524Z
UID:15557-1681893000-1682008200@affirmativeact.org
SUMMARY:Atelier d’identification des priorités des populations clés et groupes vulnérables.
DESCRIPTION:Atelier d’identification des priorités des populations clés et groupes vulnérables. \n\n\n\n\n\n\n\n\n\n\n\n\n\n\nDans le cadre de la mise en œuvre du projet « Identifier et prioriser les besoins des populations clés et groupes vulnérables pour l’élaboration de la Note Conceptuelle du nouveau modèle de financement 4 du Fonds Mondial de lutte contre le Sida\, le Paludisme et la Tuberculose\,» financé par Deutsche Gesellschaft für Internationale Zusammenarbeit (GIZ) à travers BACK UP SANTE\, Affirmative Action organise dans la ville de Douala à l’hôtel Prince de Galles du mercredi 19 au jeudi 20 avril 2023 un atelier de synthèse des besoins prioritaires des populations clés et vulnérables à prendre en compte dans la Note Conceptuelle du Global Cycle 7 (GC7).
URL:https://affirmativeact.org/event/atelier-didentification-des-priorites-des-populations-cles-et-groupes-vulnerables/
CATEGORIES:Events
ATTACH;FMTTYPE=image/jpeg:https://affirmativeact.org/wp-content/uploads/2023/04/WhatsApp-Image-2023-03-24-at-11.17.55.jpeg
ORGANIZER;CN="Affirmative Action":MAILTO:contact@affirmativeact.org
END:VEVENT
END:VCALENDAR